Workbook

Sheet Estimativa de tratamento
B2: Doutor
B4: Paciente
B6: Apinhamento
B8: Diastemas | F8: Resumo:
B10: Desvio de Linha Média | F10: Tipo de tratamento | G10: Pacote: | H10: Preço a vista: | I10: Parcela:
B12: Intrusão | F12: Pequenos apinhamentos e recidivas | G12: Unidade | H12: R$ 95 por placa R$ 2.280 para 6 meses | I12: 6 de R$ 380 (para 6 meses)
B14: Extrusão
B16: Rotação | F16: Apinhamentos e nivelamentos moderados | G16: Mid | H16: R$ 3.800 | I16: 12x de R$ 369
B18: Inclinação Vestíbulo Lingual
B20: Inclinação Mésio Distal | F20: Classe II | G20: Full | H20: R$ 4.999 | I20: 21x de R$ 299
B22: Distalização | F22: Classe III
B24: Mesialização | F24: Mordida aberta
B26: Torque | F26: Mordida profunda
B28: Correção Sagital | F28: Mordida cruzada
B30: Desalinhamento Anterior | F30: Valores antes dos descontos progressivos:
B32: Desalinhamento Posterior | F32: 2o Caso 10% de desconto / 3o caso 15% de desconto
B34: Sobressaliência
B36: Sobremordida
B38: Mordida Aberta
B41: Quantidade de séries (Estimativa preliminar) | D41: =IF(Sheet1!G20=0,"",Sheet1!G20)
B43: Pacote recomendado | D43: =IF(D41="","",Sheet1!G26)
B45: Complexidade do caso | D45: =IF(D43="","",IF(D43="Por unidade","Complexidade Baixa (Alinhadores)",IF(D43="Pacote MID","Complexidade Moderada (alinhadores, eventual mecânica acessoria)","Complexidade alta (Alinhadores, eventual mecânica híbrida)")))
B47: Valor a vista | D47: =IF(D41="","",Sheet1!G21)
B49: ou 6 parcelas de | D49: =IF(D41="","",Sheet1!G22)
B51: ou 12 parcelas de | D51: =IF(D41="","",Sheet1!G23)
B53: ou 21 parcelas de | D53: =IF(D41="","",Sheet1!G24)
B55: Custo Checagem (cobrada apenas em caso de não aprovação) | D55: =IF(D43="","",IF(D43="Por unidade", 290,"Incluido"))
B57: Guias de attachment | D57: =IF(D43="","",IF(D43="Pacote FULL", "Incluído","R$ 95 por guia de attachment"))

Sheet Sheet1
C2: 6 séries | D2: 12 séries | E2: 24 séries ou mais | F2: Escolha | G2: Qtd de séries
A3: Apinhamento | B3: 0 | C3: 0 - 2 mm | D3: 2 - 3 mm | E3: 3 - 6 mm | F3: =VLOOKUP(A3,'Estimativa de tratamento'!B:D,3,0) -> 0 | G3: =IF(ISNA(HLOOKUP(F3,$C3:$E$20,18,0))=TRUE,0,HLOOKUP(F3,$C3:$E$20,18,0)) -> 0 | H3: =HLOOKUP(F3,C3:E20,18,0) -> #N/A
A4: Diastemas | B4: 0 | C4: 0 - 2 mm | D4: 2 - 3 mm | E4: 3 - 6 mm | F4: =VLOOKUP(A4,'Estimativa de tratamento'!B:D,3,0) -> 0 | G4: =IF(ISNA(HLOOKUP(F4,$C4:$E$20,17,0))=TRUE,0,HLOOKUP(F4,$C4:$E$20,17,0)) -> 0
A5: Desvio de Linha Média | B5: 0 | C5: 0 - 1 mm | D5: 1 - 2 mm | E5: 2 - 4 mm | F5: =VLOOKUP(A5,'Estimativa de tratamento'!B:D,3,0) -> 0 | G5: =IF(ISNA(HLOOKUP(F5,$C5:$E$20,16,0))=TRUE,0,HLOOKUP(F5,$C5:$E$20,16,0)) -> 0
A6: Intrusão | B6: 0 | C6: 0 - 1 mm | D6: 1 - 2 mm | E6: 2 - 3 mm | F6: =VLOOKUP(A6,'Estimativa de tratamento'!B:D,3,0) -> 0 | G6: =IF(ISNA(HLOOKUP(F6,$C6:$E$20,15,0))=TRUE,0,HLOOKUP(F6,$C6:$E$20,15,0)) -> 0
A7: Extrusão | B7: 0 | C7: 0 - 0,5 mm | D7: 0,5 -1 mm | E7: 1 - 1,5 mm | F7: =VLOOKUP(A7,'Estimativa de tratamento'!B:D,3,0) -> 0 | G7: =IF(ISNA(HLOOKUP(F7,$C7:$E$20,14,0))=TRUE,0,HLOOKUP(F7,$C7:$E$20,14,0)) -> 0
A8: Rotação | B8: 0 | C8: 0º - 10º | D8: 10º - 15º | E8: + 15º | F8: =VLOOKUP(A8,'Estimativa de tratamento'!B:D,3,0) -> 0 | G8: =IF(ISNA(HLOOKUP(F8,$C8:$E$20,13,0))=TRUE,0,HLOOKUP(F8,$C8:$E$20,13,0)) -> 0
A9: Inclinação Vestíbulo Lingual | B9: 0 | C9: 0º - 10º | D9: 10 - 20º | E9: + 20º | F9: =VLOOKUP(A9,'Estimativa de tratamento'!B:D,3,0) -> 0 | G9: =IF(ISNA(HLOOKUP(F9,$C9:$E$20,12,0))=TRUE,0,HLOOKUP(F9,$C9:$E$20,12,0)) -> 0
A10: Inclinação Mésio Distal | B10: 0 | C10: 0º - 10º | D10: 10 - 15º | E10: 15 - 20º | F10: =VLOOKUP(A10,'Estimativa de tratamento'!B:D,3,0) -> 0 | G10: =IF(ISNA(HLOOKUP(F10,$C10:$E$20,11,0))=TRUE,0,HLOOKUP(F10,$C10:$E$20,11,0)) -> 0
A11: Distalização | B11: 0 | C11: 0 - 1 mm | D11: 1 - 2 mm | E11: 2 - 3 mm | F11: =VLOOKUP(A11,'Estimativa de tratamento'!B:D,3,0) -> 0 | G11: =IF(ISNA(HLOOKUP(F11,$C11:$E$20,10,0))=TRUE,0,HLOOKUP(F11,$C11:$E$20,10,0)) -> 0
A12: Mesialização | B12: 0 | C12: 0 - 1 mm | D12: 1 - 2 mm | E12: 2 - 3 mm | F12: =VLOOKUP(A12,'Estimativa de tratamento'!B:D,3,0) -> 0 | G12: =IF(ISNA(HLOOKUP(F12,$C12:$E$20,9,0))=TRUE,0,HLOOKUP(F12,$C12:$E$20,9,0)) -> 0
A13: Torque | B13: 0 | C13: 0º - 10º | D13: 10º - 15º | E13: + 15º | F13: =VLOOKUP(A13,'Estimativa de tratamento'!B:D,3,0) -> 0 | G13: =IF(ISNA(HLOOKUP(F13,$C13:$E$20,8,0))=TRUE,0,HLOOKUP(F13,$C13:$E$20,8,0)) -> 0
A14: Correção Sagital | B14: 0 | C14: - | D14: 0 - 1,5 mm | E14: 1,5 - 4 mm | F14: =VLOOKUP(A14,'Estimativa de tratamento'!B:D,3,0) -> 0 | G14: =IF(F14="-",0,IF(ISNA(HLOOKUP(F14,$C14:$E$20,7,0))=TRUE,0,HLOOKUP(F14,$C14:$E$20,7,0))) -> 0
A15: Desalinhamento Anterior | B15: 0 | C15: Suave | D15: Moderado | E15: Severo | F15: =VLOOKUP(A15,'Estimativa de tratamento'!B:D,3,0) -> 0 | G15: =IF(ISNA(HLOOKUP(F15,$C15:$E$20,6,0))=TRUE,0,HLOOKUP(F15,$C15:$E$20,6,0)) -> 0
A16: Desalinhamento Posterior | B16: 0 | C16: - | D16: Suave | E16: Moderado | F16: =VLOOKUP(A16,'Estimativa de tratamento'!B:D,3,0) -> 0 | G16: =IF(ISNA(HLOOKUP(F16,$C16:$E$20,5,0))=TRUE,0,HLOOKUP(F16,$C16:$E$20,5,0)) -> 0
A17: Sobressaliência | B17: 0 | C17: 0 - 1 mm | D17: 2 - 3 mm | E17: 3 - 4 mm | F17: =VLOOKUP(A17,'Estimativa de tratamento'!B:D,3,0) -> 0 | G17: =IF(ISNA(HLOOKUP(F17,$C17:$E$20,4,0))=TRUE,0,HLOOKUP(F17,$C17:$E$20,4,0)) -> 0
A18: Sobremordida | B18: 0 | C18: 0 - 1 mm | D18: 1 - 3 mm | E18: 3 - 5 mm | F18: =VLOOKUP(A18,'Estimativa de tratamento'!B:D,3,0) -> 0 | G18: =IF(ISNA(HLOOKUP(F18,$C18:$E$20,3,0))=TRUE,0,HLOOKUP(F18,$C18:$E$20,3,0)) -> 0
A19: Mordida Aberta | B19: 0 | C19: 0 - 0,5 mm | D19: 0,5 -1 mm | E19: 1 - 3 mm | F19: =VLOOKUP(A19,'Estimativa de tratamento'!B:D,3,0) -> 0 | G19: =IF(ISNA(HLOOKUP(F19,$C19:$E$20,2,0))=TRUE,0,HLOOKUP(F19,$C19:$E$20,2,0)) -> 0
C20: 6 | D20: 10 | E20: 24 | F20: Quantidade de séries -> | G20: =MAX(G3:G19) -> 0
F21: Custos -> | G21: =HLOOKUP(G20,C20:E26,7,0) -> #N/A
C22: Por Unidade | D22: Pacote MID | E22: Pacote FULL | F22: 6x | G22: =HLOOKUP(G20,C20:E27,8,0) -> #N/A
F23: 12x | G23: =HLOOKUP(G20,C20:E28,9,0) -> #N/A
C24: 95 | D24: =D26/(D20*4) -> 95 | E24: =E26/(E20*4) -> 52.072917 | F24: 21x | G24: =HLOOKUP(G20,C20:E29,10,0) -> #N/A
B26: A vista | C26: =C20*95*4 -> 2280 | D26: 3800 | E26: 4999 | F26: Pacote recomendado -> | G26: =HLOOKUP(G20,C20:E22,3,0) -> #N/A
B27: 6x | C27: =C26/6 -> 380 | D27: 690 | E27: 903
B28: 12x | C28: N/A | D28: 369 | E28: 478
B29: 21x | C29: N/A | D29: N/A | E29: 299
